BEGIN:VCALENDAR
VERSION:2.0
PRODID:-//Thatsamiata - ECPv6.15.20//NONSGML v1.0//EN
CALSCALE:GREGORIAN
METHOD:PUBLISH
X-WR-CALNAME:Thatsamiata
X-ORIGINAL-URL:https://www.thatsamiata.com
X-WR-CALDESC:Eventi per Thatsamiata
REFRESH-INTERVAL;VALUE=DURATION:PT1H
X-Robots-Tag:noindex
X-PUBLISHED-TTL:PT1H
BEGIN:VTIMEZONE
TZID:Europe/Rome
BEGIN:DAYLIGHT
TZOFFSETFROM:+0100
TZOFFSETTO:+0200
TZNAME:CEST
DTSTART:20210328T010000
END:DAYLIGHT
BEGIN:STANDARD
TZOFFSETFROM:+0200
TZOFFSETTO:+0100
TZNAME:CET
DTSTART:20211031T010000
END:STANDARD
BEGIN:DAYLIGHT
TZOFFSETFROM:+0100
TZOFFSETTO:+0200
TZNAME:CEST
DTSTART:20220327T010000
END:DAYLIGHT
BEGIN:STANDARD
TZOFFSETFROM:+0200
TZOFFSETTO:+0100
TZNAME:CET
DTSTART:20221030T010000
END:STANDARD
BEGIN:DAYLIGHT
TZOFFSETFROM:+0100
TZOFFSETTO:+0200
TZNAME:CEST
DTSTART:20230326T010000
END:DAYLIGHT
BEGIN:STANDARD
TZOFFSETFROM:+0200
TZOFFSETTO:+0100
TZNAME:CET
DTSTART:20231029T010000
END:STANDARD
END:VTIMEZONE
BEGIN:VEVENT
DTSTART;TZID=Europe/Rome:20220521T100000
DTEND;TZID=Europe/Rome:20220523T230000
DTSTAMP:20260422T222545
CREATED:20220516T095429Z
LAST-MODIFIED:20231019T103946Z
UID:10000348-1653127200-1653346800@www.thatsamiata.com
SUMMARY:Villa Sforzesca: Giornata Nazionale AgroBiodiversità /// Castell'Azzara 2022
DESCRIPTION:L’evento inizierà sabato 21 maggio\, alla mattina si svolgerà un convegno ed è previsto l’intervento del dottor Scalacci dell’Ufficio Agricoltura Regione Toscana tenuto con la collaborazione delle aziende e delle varie istituzioni del territorio. Parteciperanno inoltre gli Atenei di Siena\, Pisa e la Fondazione Polo Universitario Grossetano.  Al termine del convegno seguirà il pranzo realizzato con la collaborazione degli chef amiatini e le aziende della Comunità del Cibo. Nel pomeriggio si svolgeranno appuntamenti laboratoriali e alla sera è prevista una cena degustazione. \nECCO IL PROGRAMMA 
URL:https://www.thatsamiata.com/event/villa-sforzesca-giornata-nazionale-agrobiodiversita/
LOCATION:Castell’Azzara\, Castell'Azzara\, 58034\, Italia
CATEGORIES:Cultura,Enogastronomia,Eventi,Natura
ATTACH;FMTTYPE=image/jpeg:https://www.thatsamiata.com/wp-content/uploads/2023/07/villa_sforzesca-1.jpg
END:VEVENT
END:VCALENDAR