BEGIN:VCALENDAR
VERSION:2.0
PRODID:-//Thatsamiata - ECPv6.15.20//NONSGML v1.0//EN
CALSCALE:GREGORIAN
METHOD:PUBLISH
X-ORIGINAL-URL:https://www.thatsamiata.com
X-WR-CALDESC:Eventi per Thatsamiata
REFRESH-INTERVAL;VALUE=DURATION:PT1H
X-Robots-Tag:noindex
X-PUBLISHED-TTL:PT1H
BEGIN:VTIMEZONE
TZID:Europe/Rome
BEGIN:DAYLIGHT
TZOFFSETFROM:+0100
TZOFFSETTO:+0200
TZNAME:CEST
DTSTART:20210328T010000
END:DAYLIGHT
BEGIN:STANDARD
TZOFFSETFROM:+0200
TZOFFSETTO:+0100
TZNAME:CET
DTSTART:20211031T010000
END:STANDARD
BEGIN:DAYLIGHT
TZOFFSETFROM:+0100
TZOFFSETTO:+0200
TZNAME:CEST
DTSTART:20220327T010000
END:DAYLIGHT
BEGIN:STANDARD
TZOFFSETFROM:+0200
TZOFFSETTO:+0100
TZNAME:CET
DTSTART:20221030T010000
END:STANDARD
BEGIN:DAYLIGHT
TZOFFSETFROM:+0100
TZOFFSETTO:+0200
TZNAME:CEST
DTSTART:20230326T010000
END:DAYLIGHT
BEGIN:STANDARD
TZOFFSETFROM:+0200
TZOFFSETTO:+0100
TZNAME:CET
DTSTART:20231029T010000
END:STANDARD
END:VTIMEZONE
BEGIN:VEVENT
DTSTART;TZID=Europe/Rome:20220930T190000
DTEND;TZID=Europe/Rome:20221002T140000
DTSTAMP:20260422T141348
CREATED:20220914T151002Z
LAST-MODIFIED:20231020T075611Z
UID:10000357-1664564400-1664719200@www.thatsamiata.com
SUMMARY:Festa di Ottobre 2022
DESCRIPTION:A Vallerona è in programma dal 30 settembre al 2 ottobre la FESTA DI OTTOBRE. Tre giorni di musica\, eventi\, piatti tipici locali e cantine aperte.\nScopri il programma nella cartellone che pubblichiamo di seguito.
URL:https://www.thatsamiata.com/event/festa-di-ottobre/
LOCATION:Vallerona\, loc. Vallerona\, Roccalbegna\, Grosseto\, 58053\, Italia
CATEGORIES:Enogastronomia,Eventi,Musica,Tradizioni
ATTACH;FMTTYPE=image/jpeg:https://www.thatsamiata.com/wp-content/uploads/2023/07/7a213ddf-7d94-4ab5-848d-8336d15cef75.jpg
ORGANIZER;CN="Pro Loco Vallerona":MAILTO:vallerona@libero.it
END:VEVENT
END:VCALENDAR