BEGIN:VCALENDAR
VERSION:2.0
PRODID:-//Thatsamiata - ECPv6.15.20//NONSGML v1.0//EN
CALSCALE:GREGORIAN
METHOD:PUBLISH
X-ORIGINAL-URL:https://www.thatsamiata.com
X-WR-CALDESC:Eventi per Thatsamiata
REFRESH-INTERVAL;VALUE=DURATION:PT1H
X-Robots-Tag:noindex
X-PUBLISHED-TTL:PT1H
BEGIN:VTIMEZONE
TZID:Europe/Rome
BEGIN:DAYLIGHT
TZOFFSETFROM:+0100
TZOFFSETTO:+0200
TZNAME:CEST
DTSTART:20210328T010000
END:DAYLIGHT
BEGIN:STANDARD
TZOFFSETFROM:+0200
TZOFFSETTO:+0100
TZNAME:CET
DTSTART:20211031T010000
END:STANDARD
BEGIN:DAYLIGHT
TZOFFSETFROM:+0100
TZOFFSETTO:+0200
TZNAME:CEST
DTSTART:20220327T010000
END:DAYLIGHT
BEGIN:STANDARD
TZOFFSETFROM:+0200
TZOFFSETTO:+0100
TZNAME:CET
DTSTART:20221030T010000
END:STANDARD
BEGIN:DAYLIGHT
TZOFFSETFROM:+0100
TZOFFSETTO:+0200
TZNAME:CEST
DTSTART:20230326T010000
END:DAYLIGHT
BEGIN:STANDARD
TZOFFSETFROM:+0200
TZOFFSETTO:+0100
TZNAME:CET
DTSTART:20231029T010000
END:STANDARD
END:VTIMEZONE
BEGIN:VEVENT
DTSTART;TZID=Europe/Rome:20221218T160000
DTEND;TZID=Europe/Rome:20221218T200000
DTSTAMP:20260423T183102
CREATED:20221214T083105Z
LAST-MODIFIED:20231019T094111Z
UID:10000330-1671379200-1671393600@www.thatsamiata.com
SUMMARY:Natale a Casa Campiglia 2022
DESCRIPTION:Anche a Campiglia d’Orcia\, ai piedi del Monte Amiata\, sul versante senese della montagna\, gli eventi che accompagnano visitatori e turisti al Natale non mancano. Il primo è in programma il 18 dicembre\, proprio con Natale a Casa Campiglia. Si tratta di un pomeriggio da vivere in compagnia per farsi gli auguri e attendere l’arrivo di Babbo Natale. Tra le attività da fare anche la possibilità di vistare il mercatino natalizio.
URL:https://www.thatsamiata.com/event/natale-a-casa-campiglia/
LOCATION:Campiglia d’Orcia\, loc. Campiglia d'Orcia\, Castiglione d'Orcia\, Siena\, 53023\, Italia
CATEGORIES:Eventi,Festività,Mercati,Tradizioni
ATTACH;FMTTYPE=image/jpeg:https://www.thatsamiata.com/wp-content/uploads/2023/07/babbo-natale-slitta.jpg
END:VEVENT
BEGIN:VEVENT
DTSTART;TZID=Europe/Rome:20221230T150000
DTEND;TZID=Europe/Rome:20221231T233000
DTSTAMP:20260423T183102
CREATED:20221214T084853Z
LAST-MODIFIED:20231020T080326Z
UID:10000361-1672412400-1672529400@www.thatsamiata.com
SUMMARY:Fiaccola e Olio Nuovo /// Campiglia d'Orcia 2022
DESCRIPTION:Il 30 Dicembre\, a Campiglia d’Orcia è in programma l’evento Fiaccola&Olio Novo e 3° Torneo di Rondella.\nL’evento inizia di pomeriggio si sviluppa fino a tarda. Un appuntamento all’insegna del gusto e del divertimento con il 3° Torneo di Rondella\, in occasione della tradizionale fiaccola natalizia.
URL:https://www.thatsamiata.com/event/fiaccola-e-olio-nuovo/
LOCATION:Campiglia d’Orcia\, loc. Campiglia d'Orcia\, Castiglione d'Orcia\, Siena\, 53023\, Italia
CATEGORIES:Enogastronomia,Eventi,Festività,Tradizioni
END:VEVENT
END:VCALENDAR