BEGIN:VCALENDAR
VERSION:2.0
PRODID:-//Thatsamiata - ECPv6.15.20//NONSGML v1.0//EN
CALSCALE:GREGORIAN
METHOD:PUBLISH
X-ORIGINAL-URL:https://www.thatsamiata.com
X-WR-CALDESC:Eventi per Thatsamiata
REFRESH-INTERVAL;VALUE=DURATION:PT1H
X-Robots-Tag:noindex
X-PUBLISHED-TTL:PT1H
BEGIN:VTIMEZONE
TZID:Europe/Rome
BEGIN:DAYLIGHT
TZOFFSETFROM:+0100
TZOFFSETTO:+0200
TZNAME:CEST
DTSTART:20220327T010000
END:DAYLIGHT
BEGIN:STANDARD
TZOFFSETFROM:+0200
TZOFFSETTO:+0100
TZNAME:CET
DTSTART:20221030T010000
END:STANDARD
BEGIN:DAYLIGHT
TZOFFSETFROM:+0100
TZOFFSETTO:+0200
TZNAME:CEST
DTSTART:20230326T010000
END:DAYLIGHT
BEGIN:STANDARD
TZOFFSETFROM:+0200
TZOFFSETTO:+0100
TZNAME:CET
DTSTART:20231029T010000
END:STANDARD
BEGIN:DAYLIGHT
TZOFFSETFROM:+0100
TZOFFSETTO:+0200
TZNAME:CEST
DTSTART:20240331T010000
END:DAYLIGHT
BEGIN:STANDARD
TZOFFSETFROM:+0200
TZOFFSETTO:+0100
TZNAME:CET
DTSTART:20241027T010000
END:STANDARD
END:VTIMEZONE
BEGIN:VEVENT
DTSTART;TZID=Europe/Rome:20230106T180000
DTEND;TZID=Europe/Rome:20230106T220000
DTSTAMP:20260422T222714
CREATED:20221115T164215Z
LAST-MODIFIED:20231020T103203Z
UID:10000726-1673028000-1673042400@www.thatsamiata.com
SUMMARY:Presepe Vivente /// Monticello Amiata 2023
DESCRIPTION:L’associazione “Amici del Santuario” insieme alla popolazione di Monticello Amiata hanno deciso che il caratteristico presepe vivente quest’anno si farà. Una manifestazione molto particolare che si svolge lungo un percorso all’interno di bosco fino ad arrivare al santuario della Madonna\, situato appena fuori il paese amiatino. L’ultima data in cui si svolge la manifestazione è il 6 di gennaio. Candele e torce accese saranno consegnate ai visitatori\, il presepe si svolge di notte e quest’anno sarà ampliato sia con nuove ambientazioni che con nuove figure.  \nLE PAROLE DELL’ORGANIZZAZIONE\n“Stiamo lavorando all’organizzazione – spiega Carlo Leoni\, presidente dell’Associazione Amici del Santuario – ci stiamo inoltre impegnando per riuscire a portare anche gli zampognari abruzzesi sull’Amiata. All’organizzazione collaborano anche le altre associazioni del paese\, senza la forza di tutti sarebbe impossibile pensare di organizzare un evento simile. Rappresenta sicuramente una manifestazione che cattura la curiosità di molti turisti ma anche di tanti cittadini amiatini. L’idea di progettare il presepe vivente all’interno di una location naturale è sicuramente un aspetto unico”. Il primo giorno sarà presente inoltre la cantante lirica senese\, Cristina Ferri con il Coro dell’associazione Liricando.
URL:https://www.thatsamiata.com/event/presepe-vivente-4/
LOCATION:Monticello Amiata\, loc. Monticello Amiata\, Cinigiano\, Grosseto\, 58044\, Italia
CATEGORIES:Eventi,Festività,Tradizioni
ATTACH;FMTTYPE=image/jpeg:https://www.thatsamiata.com/wp-content/uploads/2023/07/foto_presepe.jpg
END:VEVENT
END:VCALENDAR