BEGIN:VCALENDAR
VERSION:2.0
PRODID:-//Thatsamiata - ECPv6.15.20//NONSGML v1.0//EN
CALSCALE:GREGORIAN
METHOD:PUBLISH
X-WR-CALNAME:Thatsamiata
X-ORIGINAL-URL:https://www.thatsamiata.com
X-WR-CALDESC:Eventi per Thatsamiata
REFRESH-INTERVAL;VALUE=DURATION:PT1H
X-Robots-Tag:noindex
X-PUBLISHED-TTL:PT1H
BEGIN:VTIMEZONE
TZID:Europe/Rome
BEGIN:DAYLIGHT
TZOFFSETFROM:+0100
TZOFFSETTO:+0200
TZNAME:CEST
DTSTART:20200329T010000
END:DAYLIGHT
BEGIN:STANDARD
TZOFFSETFROM:+0200
TZOFFSETTO:+0100
TZNAME:CET
DTSTART:20201025T010000
END:STANDARD
BEGIN:DAYLIGHT
TZOFFSETFROM:+0100
TZOFFSETTO:+0200
TZNAME:CEST
DTSTART:20210328T010000
END:DAYLIGHT
BEGIN:STANDARD
TZOFFSETFROM:+0200
TZOFFSETTO:+0100
TZNAME:CET
DTSTART:20211031T010000
END:STANDARD
BEGIN:DAYLIGHT
TZOFFSETFROM:+0100
TZOFFSETTO:+0200
TZNAME:CEST
DTSTART:20220327T010000
END:DAYLIGHT
BEGIN:STANDARD
TZOFFSETFROM:+0200
TZOFFSETTO:+0100
TZNAME:CET
DTSTART:20221030T010000
END:STANDARD
END:VTIMEZONE
BEGIN:VEVENT
DTSTART;VALUE=DATE:20211030
DTEND;VALUE=DATE:20211102
DTSTAMP:20260422T180042
CREATED:20211028T104400Z
LAST-MODIFIED:20231016T103823Z
UID:10000122-1635552000-1635811199@www.thatsamiata.com
SUMMARY:Il Crastatone 2021
DESCRIPTION:Il Crastatone 2021 ci sarà; la 54^ edizione della festa più attesa sull´Amiata\, dedicata alla castagna e ai frutti del bosco e del sottobosco\, si terrà dal 30 Ottobre al 1 Novembre 2021. Come da tradizione\, la manifestazione si terrà all´interno del centro storico\, nei territori delle quattro Contrade (Borgo\, Castello\, Coro e Voltaia) con attenzione massima alle normative sanitarie vigenti. \nPer scoprire tutte le novità vi invitiamo a visitare il sito dedicato alla festa. \nFoto di copertina di repertorio (2019)
URL:https://www.thatsamiata.com/event/il-crastatone-3/
LOCATION:Piancastagnaio\, Piancastagnaio\, Siena\, 53025\, Italia
CATEGORIES:Enogastronomia,Eventi,Musica,Tradizioni
ATTACH;FMTTYPE=image/jpeg:https://www.thatsamiata.com/wp-content/uploads/2023/07/vie-borgo-folla.jpg
END:VEVENT
BEGIN:VEVENT
DTSTART;VALUE=DATE:20211127
DTEND;VALUE=DATE:20211128
DTSTAMP:20260422T180042
CREATED:20211122T082956Z
LAST-MODIFIED:20231019T090511Z
UID:10000309-1637971200-1638057599@www.thatsamiata.com
SUMMARY:Il Feudo di Piancastagnaio e Altre Storie /// Piancastagnaio 2021
DESCRIPTION:Il feudo di Piancastagnaio e altre storie rappresenta un ciclo di incontri organizzato dal Comune e realizzato in collaborazione con la Pro Loco. Il terzo appuntamento è in programma al Teatro Comunale “Vittorino Ricci Barbini” sabato 27 novembre\, alle 17\, \nL´EVENTO\n“Piancastagnaio dal Mille al Libero Comune” è questo il titolo dell´evento curato da Marco Giubilei. Coordina Simone Marrucci e partecipano\, Roberta Sancasciani\, assessore alla cultura e Melania Piccini\, presidente della Pro Loco.
URL:https://www.thatsamiata.com/event/il-feudo-di-piancastagnaio-e-altre-storie/
LOCATION:Piancastagnaio\, Piancastagnaio\, Siena\, 53025\, Italia
CATEGORIES:Cultura,Eventi,Teatro
ATTACH;FMTTYPE=image/jpeg:https://www.thatsamiata.com/wp-content/uploads/2023/07/piancastagnaio-2.jpg
END:VEVENT
END:VCALENDAR