BEGIN:VCALENDAR
VERSION:2.0
PRODID:-//Thatsamiata - ECPv6.15.20//NONSGML v1.0//EN
CALSCALE:GREGORIAN
METHOD:PUBLISH
X-ORIGINAL-URL:https://www.thatsamiata.com
X-WR-CALDESC:Eventi per Thatsamiata
REFRESH-INTERVAL;VALUE=DURATION:PT1H
X-Robots-Tag:noindex
X-PUBLISHED-TTL:PT1H
BEGIN:VTIMEZONE
TZID:Europe/Rome
BEGIN:DAYLIGHT
TZOFFSETFROM:+0100
TZOFFSETTO:+0200
TZNAME:CEST
DTSTART:20200329T010000
END:DAYLIGHT
BEGIN:STANDARD
TZOFFSETFROM:+0200
TZOFFSETTO:+0100
TZNAME:CET
DTSTART:20201025T010000
END:STANDARD
BEGIN:DAYLIGHT
TZOFFSETFROM:+0100
TZOFFSETTO:+0200
TZNAME:CEST
DTSTART:20210328T010000
END:DAYLIGHT
BEGIN:STANDARD
TZOFFSETFROM:+0200
TZOFFSETTO:+0100
TZNAME:CET
DTSTART:20211031T010000
END:STANDARD
BEGIN:DAYLIGHT
TZOFFSETFROM:+0100
TZOFFSETTO:+0200
TZNAME:CEST
DTSTART:20220327T010000
END:DAYLIGHT
BEGIN:STANDARD
TZOFFSETFROM:+0200
TZOFFSETTO:+0100
TZNAME:CET
DTSTART:20221030T010000
END:STANDARD
END:VTIMEZONE
BEGIN:VEVENT
DTSTART;VALUE=DATE:20211204
DTEND;VALUE=DATE:20211205
DTSTAMP:20260422T162414
CREATED:20211201T160706Z
LAST-MODIFIED:20231019T090835Z
UID:10000310-1638576000-1638662399@www.thatsamiata.com
SUMMARY:Apertura Straordinaria Convento San Bartolomeo /// Piancastagnaio 2021
DESCRIPTION:Sabato 4 dicembre\, dalle 10 alle 12 e dalle 14.30 alle 16.30\, il Convento di San Bartolomeo sarà aperto per una visita speciale. È l´occasione ideale per andare alla scoperta di questo luogo\, le visite guidate a questa dimora storica si svolgeranno dalle 11 alle 15. \nPer avere maggiori informazioni sulla struttura CLICCA QUI  \nEcco i contatti \nCONVENTO SAN BARTOLOMEO\nVIA G. VESPA 368\nPIANCASTAGNAIO (SI) \nINFO E PRENOTAZIONI \nCell (+39) 388 93 78 801\ninfo@conventosanbartolomeo.com
URL:https://www.thatsamiata.com/event/apertura-straordinaria-convento-san-bartolomeo/
LOCATION:Piancastagnaio\, Piancastagnaio\, Siena\, 53025\, Italia
CATEGORIES:Cultura,Eventi
ATTACH;FMTTYPE=image/jpeg:https://www.thatsamiata.com/wp-content/uploads/2023/07/convento_san_bartolomeo-2.jpg
END:VEVENT
BEGIN:VEVENT
DTSTART;TZID=Europe/Rome:20211218T213000
DTEND;TZID=Europe/Rome:20211218T233000
DTSTAMP:20260422T162414
CREATED:20211214T112115Z
LAST-MODIFIED:20231019T091549Z
UID:10000054-1639863000-1639870200@www.thatsamiata.com
SUMMARY:Concerto di Natale /// Piancastagnaio 2021
DESCRIPTION:Sabato 18 dicembre non perdetevi il tradizionale Concerto di Natale con i cori Don Zelio Vagaggini e il Polifonico di Castel Viscardo\, diretti da Daniele Belloni\, presso la Chiesa di S. Maria Assunta di Piancastagnaio  alle ore 21.30. L´ingresso sarà gratuito\, ma si ricorda che è necessaria la prenotazione.
URL:https://www.thatsamiata.com/event/concerto-di-natale-2/
LOCATION:Piancastagnaio\, Piancastagnaio\, Siena\, 53025\, Italia
CATEGORIES:Eventi,Festività,Musica
ATTACH;FMTTYPE=image/jpeg:https://www.thatsamiata.com/wp-content/uploads/2023/07/piancastagnaio-luminarie-rocca-badini.jpg
END:VEVENT
BEGIN:VEVENT
DTSTART;TZID=Europe/Rome:20211223T213000
DTEND;TZID=Europe/Rome:20211223T233000
DTSTAMP:20260422T162414
CREATED:20211214T113217Z
LAST-MODIFIED:20231019T091441Z
UID:10000053-1640295000-1640302200@www.thatsamiata.com
SUMMARY:Concerto natalizio della Junior Band /// Piancastagnaio 2021
DESCRIPTION:La junior band\, composta dai bambini e dai ragazzi delle scuole di musica di Abbadia e Piancastagnaio\, vi aspettano per il loro concerto natalizio.\n\n\nLo spettacolo avrà luogo il 23 dicembre alla chiesa di Santa Maria Assunta di Piancastagnaio alle ore 21.30 (per info e prenotazioni contattare Pro Loco Piancastagnaio).
URL:https://www.thatsamiata.com/event/concerto-natalizio-della-junior-band/
LOCATION:Piancastagnaio\, Piancastagnaio\, Siena\, 53025\, Italia
CATEGORIES:Eventi,Festività,Musica
ATTACH;FMTTYPE=image/jpeg:https://www.thatsamiata.com/wp-content/uploads/2023/07/musica-decorazioni-natale-1.jpg
END:VEVENT
BEGIN:VEVENT
DTSTART;TZID=Europe/Rome:20211224T170000
DTEND;TZID=Europe/Rome:20211224T190000
DTSTAMP:20260422T162414
CREATED:20211214T114850Z
LAST-MODIFIED:20231019T094324Z
UID:10000332-1640365200-1640372400@www.thatsamiata.com
SUMMARY:Consegna Regali /// Piancastagnaio 2021
DESCRIPTION:Quest´anno Babbo Natale ha deciso di lasciare i regali direttamente nelle vostre mani\, ma affrettatevi a contattarlo per non rimanere indietro! La consegna avverrà venerdì 24 dicembre presso i giardini Nasini a Piancastagnaio a partire dalle 17.00. Si ricorda che il servizio è su prenotazione.
URL:https://www.thatsamiata.com/event/consegna-regali/
LOCATION:Piancastagnaio\, Piancastagnaio\, Siena\, 53025\, Italia
CATEGORIES:Eventi,Festività,Tradizioni
ATTACH;FMTTYPE=image/jpeg:https://www.thatsamiata.com/wp-content/uploads/2023/07/babbo-natale-consegna-regali.jpg
END:VEVENT
END:VCALENDAR