BEGIN:VCALENDAR
VERSION:2.0
PRODID:-//Thatsamiata - ECPv6.15.20//NONSGML v1.0//EN
CALSCALE:GREGORIAN
METHOD:PUBLISH
X-WR-CALNAME:Thatsamiata
X-ORIGINAL-URL:https://www.thatsamiata.com
X-WR-CALDESC:Eventi per Thatsamiata
REFRESH-INTERVAL;VALUE=DURATION:PT1H
X-Robots-Tag:noindex
X-PUBLISHED-TTL:PT1H
BEGIN:VTIMEZONE
TZID:Europe/Rome
BEGIN:DAYLIGHT
TZOFFSETFROM:+0100
TZOFFSETTO:+0200
TZNAME:CEST
DTSTART:20210328T010000
END:DAYLIGHT
BEGIN:STANDARD
TZOFFSETFROM:+0200
TZOFFSETTO:+0100
TZNAME:CET
DTSTART:20211031T010000
END:STANDARD
BEGIN:DAYLIGHT
TZOFFSETFROM:+0100
TZOFFSETTO:+0200
TZNAME:CEST
DTSTART:20220327T010000
END:DAYLIGHT
BEGIN:STANDARD
TZOFFSETFROM:+0200
TZOFFSETTO:+0100
TZNAME:CET
DTSTART:20221030T010000
END:STANDARD
BEGIN:DAYLIGHT
TZOFFSETFROM:+0100
TZOFFSETTO:+0200
TZNAME:CEST
DTSTART:20230326T010000
END:DAYLIGHT
BEGIN:STANDARD
TZOFFSETFROM:+0200
TZOFFSETTO:+0100
TZNAME:CET
DTSTART:20231029T010000
END:STANDARD
END:VTIMEZONE
BEGIN:VEVENT
DTSTART;TZID=Europe/Rome:20220220T170000
DTEND;TZID=Europe/Rome:20220220T190000
DTSTAMP:20260422T125812
CREATED:20220214T160341Z
LAST-MODIFIED:20231018T133312Z
UID:10000193-1645376400-1645383600@www.thatsamiata.com
SUMMARY:"Panico ma rosa" Il monologo di Alessandro Benvenuti - Piancastagnaio 2022
DESCRIPTION:Il monologo dell’attore toscano è in programma domenica 20 al teatro Vittorino Ricci Barbini di Piancastagnaio  \nLa storia è legata a cinquantanove giorni di lockdown. Cinquantanove pagine di diario che raccontano l’isolamento obbligatorio di un autore attore che privato del suo naturale habitat\, il palcoscenico\, decide di uscire dalla sua ritrosia e raccontarsi per la prima volta pubblicamente\, con disarmante sincerità come persona. Sogni e bisogni\, ricordi e crudeltà\, fantasie e humor. Un viaggio nella mente di un comico che nel cercare un nuovo senso della vita per non impazzire\, reinventa il passato di chierichetto\, stabilisce inediti e proficui rapporti con tortore\, passerotti\, merli\, cornacchie\, piccioni e gabbiani. Mescola sogni e aneddoti. \nProgetta linguaggi comico barocchi. Decide di rinascere a nuova vita digerendo il suo passato e i fantasmi che lo hanno abitato con la spudoratezza che solo gli adulti che si stufano di essere tali possono vantare. E attraverso questa comica forza eversiva sperare\, per una volta ancora\, di tornare bambino\, anzi\, bambinaccio\, prima di tacere per sempre nel naturale Finale di Partita che pazientemente attende in un punto imprecisato del Fato tutti gli esseri umani. Secondo Benvenuti\, drammaturgicamente parlando\, ‘Panico ma rosa’ è di genere Po Ca Co: Poetico\, Catastrofico\, Comico. \nLa stagione di Piancastagnaio è stata organizzata dal Comune in collaborazione con l’associazione ‘Piano Scenico’. Direttore artistico è Gianmarco Nucciotti. Ingressi: biglietto intero 10 euro\, ridotto 8.
URL:https://www.thatsamiata.com/event/panico-ma-rosa-il-monologo-di-alessandro-benvenuti/
LOCATION:Piancastagnaio\, Piancastagnaio\, Siena\, 53025\, Italia
CATEGORIES:Eventi,Teatro
ATTACH;FMTTYPE=image/jpeg:https://www.thatsamiata.com/wp-content/uploads/2023/10/Alessandro-Benvenuti-in-Panico-ma-rosa-foto-di-Carlotta-Benvenuti-2.jpg
END:VEVENT
END:VCALENDAR