BEGIN:VCALENDAR
VERSION:2.0
PRODID:-//Thatsamiata - ECPv6.15.20//NONSGML v1.0//EN
CALSCALE:GREGORIAN
METHOD:PUBLISH
X-WR-CALNAME:Thatsamiata
X-ORIGINAL-URL:https://www.thatsamiata.com
X-WR-CALDESC:Eventi per Thatsamiata
REFRESH-INTERVAL;VALUE=DURATION:PT1H
X-Robots-Tag:noindex
X-PUBLISHED-TTL:PT1H
BEGIN:VTIMEZONE
TZID:Europe/Rome
BEGIN:DAYLIGHT
TZOFFSETFROM:+0100
TZOFFSETTO:+0200
TZNAME:CEST
DTSTART:20210328T010000
END:DAYLIGHT
BEGIN:STANDARD
TZOFFSETFROM:+0200
TZOFFSETTO:+0100
TZNAME:CET
DTSTART:20211031T010000
END:STANDARD
BEGIN:DAYLIGHT
TZOFFSETFROM:+0100
TZOFFSETTO:+0200
TZNAME:CEST
DTSTART:20220327T010000
END:DAYLIGHT
BEGIN:STANDARD
TZOFFSETFROM:+0200
TZOFFSETTO:+0100
TZNAME:CET
DTSTART:20221030T010000
END:STANDARD
BEGIN:DAYLIGHT
TZOFFSETFROM:+0100
TZOFFSETTO:+0200
TZNAME:CEST
DTSTART:20230326T010000
END:DAYLIGHT
BEGIN:STANDARD
TZOFFSETFROM:+0200
TZOFFSETTO:+0100
TZNAME:CET
DTSTART:20231029T010000
END:STANDARD
END:VTIMEZONE
BEGIN:VEVENT
DTSTART;TZID=Europe/Rome:20220730T170000
DTEND;TZID=Europe/Rome:20220731T190000
DTSTAMP:20260422T035255
CREATED:20220623T100112Z
LAST-MODIFIED:20231019T105607Z
UID:10000354-1659200400-1659294000@www.thatsamiata.com
SUMMARY:La Posta Letteraria /// Radicofani 2022
DESCRIPTION:La Posta Letteraria è un festival ideato e organizzato dalla associazione Pyramid di Radicofani e si svolge dal 2018 in estate a Radicofani in provincia di Siena all’interno del Bosco Isabella. Il festival promuove i libri e la lettura. Questo gli appuntamenti saranno sabato 30 e domenica 31 luglio.\n\n\n\n\n\n\n\n\n\n\n\n\n\n\nPRESENTAZIONI SABATO 30\nOre 16:00 – SIMONE INNOCENTI\n“L’anno capovolto” / Atlantide\nIntervista Francesca Campanelli \n\n\nOre 17:00 – SERGIO RIZZO\n“Potere assoluto. I cento magistrati che comandano in Italia” / Solferino\nIntervista Maurizio Boldrini\n\nOre 18:00 – MICHELE SERRA\n“Osso. Anche i cani sognano” / Feltrinelli\nIntervista Matilde Passa\n\n\n\nPRESENTAZIONI DOMENICA 31 \n\n\nOre 16:00 – LORENZA FOSCHINI\n“L’attrito della vita. Indagine su Renato Caccioppoli matematico napoletano” / La Nave di Teseo\nIntervista Federica Damiani\n\nOre 17:00 – PIERO NEGRI SCAGLIONE “Che hai fatto in tutti questi anni\nSergio Leone e l’avventura di C’era una volta in America” / Einaudi\nIntervista Giancarlo Governi\n\nOre 18:00 – ANTONIO PADELLARO\n“7 cose di cui vergognarsi. Ora e allora” / Paper First\nIntervista Pino Di Blasio\n\n\nINFORMAZIONI\n\nÈ possibile scrivere via mail a questo indirizzo: pyramid.radicofani@gmail.com
URL:https://www.thatsamiata.com/event/la-posta-letteraria/
LOCATION:Radicofani\, Radicofani\, Siena\, 53040\, Italia
CATEGORIES:Cultura,Eventi
ATTACH;FMTTYPE=image/jpeg:https://www.thatsamiata.com/wp-content/uploads/2023/10/isabella-giardino.jpg
END:VEVENT
END:VCALENDAR