BEGIN:VCALENDAR
VERSION:2.0
PRODID:-//Thatsamiata - ECPv6.15.20//NONSGML v1.0//EN
CALSCALE:GREGORIAN
METHOD:PUBLISH
X-ORIGINAL-URL:https://www.thatsamiata.com
X-WR-CALDESC:Eventi per Thatsamiata
REFRESH-INTERVAL;VALUE=DURATION:PT1H
X-Robots-Tag:noindex
X-PUBLISHED-TTL:PT1H
BEGIN:VTIMEZONE
TZID:Europe/Rome
BEGIN:DAYLIGHT
TZOFFSETFROM:+0100
TZOFFSETTO:+0200
TZNAME:CEST
DTSTART:20170326T010000
END:DAYLIGHT
BEGIN:STANDARD
TZOFFSETFROM:+0200
TZOFFSETTO:+0100
TZNAME:CET
DTSTART:20171029T010000
END:STANDARD
BEGIN:DAYLIGHT
TZOFFSETFROM:+0100
TZOFFSETTO:+0200
TZNAME:CEST
DTSTART:20180325T010000
END:DAYLIGHT
BEGIN:STANDARD
TZOFFSETFROM:+0200
TZOFFSETTO:+0100
TZNAME:CET
DTSTART:20181028T010000
END:STANDARD
BEGIN:DAYLIGHT
TZOFFSETFROM:+0100
TZOFFSETTO:+0200
TZNAME:CEST
DTSTART:20190331T010000
END:DAYLIGHT
BEGIN:STANDARD
TZOFFSETFROM:+0200
TZOFFSETTO:+0100
TZNAME:CET
DTSTART:20191027T010000
END:STANDARD
BEGIN:DAYLIGHT
TZOFFSETFROM:+0100
TZOFFSETTO:+0200
TZNAME:CEST
DTSTART:20200329T010000
END:DAYLIGHT
BEGIN:STANDARD
TZOFFSETFROM:+0200
TZOFFSETTO:+0100
TZNAME:CET
DTSTART:20201025T010000
END:STANDARD
BEGIN:DAYLIGHT
TZOFFSETFROM:+0100
TZOFFSETTO:+0200
TZNAME:CEST
DTSTART:20210328T010000
END:DAYLIGHT
BEGIN:STANDARD
TZOFFSETFROM:+0200
TZOFFSETTO:+0100
TZNAME:CET
DTSTART:20211031T010000
END:STANDARD
END:VTIMEZONE
BEGIN:VEVENT
DTSTART;VALUE=DATE:20200926
DTEND;VALUE=DATE:20201018
DTSTAMP:20260419T211203
CREATED:20200916T140331Z
LAST-MODIFIED:20231019T104214Z
UID:10000172-1601078400-1602979199@www.thatsamiata.com
SUMMARY:Mostra Fotografica "Dalla Val d'Orcia al Monte Amiata" /// Castel del Piano 2020
DESCRIPTION:A Castel del Piano\, nelle splendide stanze di Palazzo Nerucci\, dove ha sede l’Associazione Imberciardori\, sarà inaugurata il 26 settembre la mostra fotografica “Dalla Val d’Orcia al Monte Amiata”\, una personale di Marco Pizzirani. Sarà una mostra itinerante\, una parte della mostra sarà allestita anche in sala consiliare\, situata al piano terra di Palazzo Ginanneschi. L’inaugurazione è prevista alle 17 e proseguirà fino al 17 ottobre. \nL’evento è organizzato dall’Associazione Imberciadori con la collaborazione della Nuova Proloco e il patrocinio del Comune di Castel del Piano. \nORARI E GIORNI DI APERTURA\nDa lunedì a venerdì 17-19\nSabato e domenica dalle 11-13 e dalle 17 alle 19
URL:https://www.thatsamiata.com/event/mostra-fotografica-dalla-val-dorcia-al-monte-amiata/
LOCATION:Castel del Piano\, Castel del Piano\, Grosseto\, 58033\, Italia
CATEGORIES:Arte,Cultura,Eventi
ATTACH;FMTTYPE=image/jpeg:https://www.thatsamiata.com/wp-content/uploads/2023/07/Sala_Imberciadori.jpg
END:VEVENT
BEGIN:VEVENT
DTSTART;VALUE=DATE:20200910
DTEND;VALUE=DATE:20200911
DTSTAMP:20260419T211203
CREATED:20200908T155039Z
LAST-MODIFIED:20231019T092452Z
UID:10000321-1599696000-1599782399@www.thatsamiata.com
SUMMARY:A Sud della Musica /// Castel del Piano 2020
DESCRIPTION:Giovedì 10 Settembre alle ore 21.00  presso la Sala Consiliare del Comune di Castel del Piano si svolgerà il concerto A sud della Musica – La Voce Libera di Giovanna Marini.\nL’ingresso è gratuito
URL:https://www.thatsamiata.com/event/a-sud-della-musica/
LOCATION:Castel del Piano\, Castel del Piano\, Grosseto\, 58033\, Italia
CATEGORIES:Eventi,Musica
END:VEVENT
BEGIN:VEVENT
DTSTART;TZID=Europe/Rome:20200829T210000
DTEND;TZID=Europe/Rome:20200829T230000
DTSTAMP:20260419T211203
CREATED:20200803T093648Z
LAST-MODIFIED:20231018T165520Z
UID:10000286-1598734800-1598742000@www.thatsamiata.com
SUMMARY:Proiezione "Xilella" ///docAmiata 2020
DESCRIPTION:Infine la terra\, l’elemento più solido e concreto\, che sarà associato a Xilella di Elena Tioli e Francesca della Giovanpaola e Simone Cannone. Il film che sarà proiettato sabato 29 agosto cerca di raccontare in maniera laica\, senza prese di posizione fanatiche e pregiudizi come un certo modo di intendere l’agricoltura porti al degrado dell’ambiente e della dignità di chi la terra lavora. Una compagna bizzosa\, imprevedibile e anche prepotente\, ma mai arrogante. Questo film racconta tutte le posizioni e i personaggi coinvolti ma lascia poi alle singole persone il giudizio su quello che si sta facendo e quello che si potrebbe fare
URL:https://www.thatsamiata.com/event/docamiata-proiezione-xilella/
LOCATION:Castel del Piano\, Castel del Piano\, Grosseto\, 58033\, Italia
CATEGORIES:Cultura,Eventi
ATTACH;FMTTYPE=image/jpeg:https://www.thatsamiata.com/wp-content/uploads/2023/07/Xilella.jpg
END:VEVENT
BEGIN:VEVENT
DTSTART;TZID=Europe/Rome:20200828T210000
DTEND;TZID=Europe/Rome:20200828T230000
DTSTAMP:20260419T211203
CREATED:20200803T093431Z
LAST-MODIFIED:20231018T160255Z
UID:10000257-1598648400-1598655600@www.thatsamiata.com
SUMMARY:Proiezione "I Villani" /// docAmiata 2020
DESCRIPTION:Il fuoco\, che trasforma\, cambia il colore ed il sapore delle cose. Venerdì 28 agosto sarà il momento di Don Pasta\, con “I Villani”\, un film che parte da chi gli alimenti li produce ed arriva a chi li trasforma\, in cucina\, un legame che deve essere il più breve e diretto possibile. Anche qui un viaggio attraverso l’Italia dei piccoli produttori e la loro fatica\, non solo fisica. L’Italia delle mille cucine locali.  Il film segue quattro personaggi dall’alba al tramonto\, da inizio a fine giornata di lavoro i quali rappresentano la cucina italiana\, rispettando le varie caratteristiche che la compongono: nord e sud\, uomini e donne\, giovani e anziani. Il passare delle ore scandisce la presentazione di ogni personaggio. Quattro “villani” che parlano di agricoltura\, pesca\, allevamento\, formaggi e cucina familiare. Quattro personaggi che nel loro fare quotidiano rappresentano la sintesi delle infinite resistenze e reticenze ad adottare un modello gastronomico e culturale uguale in tutto il mondo.
URL:https://www.thatsamiata.com/event/docamiata-proiezione-i-villani/
LOCATION:Castel del Piano\, Castel del Piano\, Grosseto\, 58033\, Italia
CATEGORIES:Cultura,Eventi,Teatro
ATTACH;FMTTYPE=image/jpeg:https://www.thatsamiata.com/wp-content/uploads/2023/07/I-Villani-scaled.jpg
END:VEVENT
BEGIN:VEVENT
DTSTART;TZID=Europe/Rome:20200822T210000
DTEND;TZID=Europe/Rome:20200822T230000
DTSTAMP:20260419T211203
CREATED:20200803T093110Z
LAST-MODIFIED:20231018T165448Z
UID:10000285-1598130000-1598137200@www.thatsamiata.com
SUMMARY:Proiezione "Amaranto” ///docAmiata 2020
DESCRIPTION:Il secondo film sarà proiettato sabato 22 agosto e l’elemento ispiratore è l’acqua che in “Amaranto” di Emanuela Moroni ed Emanuela Cannone\, è metafora della facoltà che abbiamo di scegliere\, ognuno la propria educazione; un po’ come l’acqua la cui forza è indomabile e la cui forma non esiste. Amaranto è un documentario tondo\, non ha due facce: quello che si vede sullo schermo e quello che vive dietro le quinte\, tutto ruota intorno alla stessa filosofia. È  il racconto in cinque tappe della vita dell’essere umano\, le storie dei protagonisti offrono lo spunto per riflettere su scelte di vita lontane da quelle convenzionali e più vicine ai reali bisogni dell’essere umano e del pianeta.
URL:https://www.thatsamiata.com/event/docamiata-proiezione-amaranto/
LOCATION:Castel del Piano\, Castel del Piano\, Grosseto\, 58033\, Italia
CATEGORIES:Cultura,Eventi
ATTACH;FMTTYPE=image/jpeg:https://www.thatsamiata.com/wp-content/uploads/2023/07/Amaranto.jpg
END:VEVENT
BEGIN:VEVENT
DTSTART;TZID=Europe/Rome:20200814T210000
DTEND;TZID=Europe/Rome:20200814T230000
DTSTAMP:20260419T211203
CREATED:20200803T093057Z
LAST-MODIFIED:20231018T165357Z
UID:10000284-1597438800-1597446000@www.thatsamiata.com
SUMMARY:Proiezione "In questo mondo" ///docAmiata 2020
DESCRIPTION:La pellicola richiamerà l’aria\, l’elemento attraversato dai suoni\, dalle forme e dai colori della vita delle donne pastore\, incontrare dall’autrice nel suo lungo viaggio in su e in giù per  l’Italia. Il film rompe lo stereotipo del pastore uomo\, raccontando la vita delle donne pastore in Italia ed è il risultato di 17mila chilometri percorsi e di 100 interviste rivolte a donne di età compresa tra i 20 e i  102 anni. Il film racconta la figura del pastore al femminile attraverso la personale esperienza della regista che ha vissuto con loro per qualche giorno\, immergendosi intimamente e profondamente nella loro quotidianità.
URL:https://www.thatsamiata.com/event/docamiata-proiezione-in-questo-mondo/
LOCATION:Castel del Piano\, Castel del Piano\, Grosseto\, 58033\, Italia
CATEGORIES:Cultura,Eventi
ATTACH;FMTTYPE=image/jpeg:https://www.thatsamiata.com/wp-content/uploads/2023/07/In-questo-mondo.jpg
END:VEVENT
BEGIN:VEVENT
DTSTART;VALUE=DATE:20200809
DTEND;VALUE=DATE:20200811
DTSTAMP:20260419T211203
CREATED:20200804T091539Z
LAST-MODIFIED:20231019T104221Z
UID:10000032-1596931200-1597103999@www.thatsamiata.com
SUMMARY:Calici di Stelle /// Castel del Piano 2020
DESCRIPTION:L’Evento calici” si svolgerà a Castel del Piano nei giorni 9 e 10 Agosto 2020. E’ un percorso che parte da P.zza Garibaldi\, nella quale in quei giorni si svolgerà il mercatino di filiera corta (che quest’anno vedrà partecipare anche i produttori locali)\, spostandosi poi verso il Palazzo comunale dove verranno organizzate degustazioni a partire dalle ore 18:00\, permettendo anche la visita delle Cantine comunali\, con l’intento di allestire una mostra fotografica che abbia come soggetto il vino e la viticultura visto il tema dell’evento. \nI produttori saranno collocati in Piazza Donatori di Sangue utilizzando gli stand della Strada del Vino. Gli accessi saranno controllati secondo le normative Anti Covid\, potendo transennare le vie di uscita della Piazza  e avvalendosi della collaborazione della VAB. Per le serate del 9 e del 10\, si terranno  due spettacoli musicali alle 21:30\, nel medesimo luogo\, così da poter avere una maggiore attrattiva.
URL:https://www.thatsamiata.com/event/calici-di-stelle-3/
LOCATION:Castel del Piano\, Castel del Piano\, Grosseto\, 58033\, Italia
CATEGORIES:Enogastronomia,Eventi
ATTACH;FMTTYPE=image/jpeg:https://www.thatsamiata.com/wp-content/uploads/2023/07/calice-di-vino.jpeg
END:VEVENT
BEGIN:VEVENT
DTSTART;TZID=Europe/Rome:20200731T190000
DTEND;TZID=Europe/Rome:20200731T200000
DTSTAMP:20260419T211203
CREATED:20200720T090234Z
LAST-MODIFIED:20231018T142618Z
UID:10000223-1596222000-1596225600@www.thatsamiata.com
SUMMARY:"Imprevedibile" - Notizie dall'Amiata 2020
DESCRIPTION:Il primo incontro è a Castel del Piano\, venerdì 31 luglio\, alle ore 19\, in piazza Donatori del Sangue\, dove il dibattito partirà dalla parola “imprevedibile”. Partecipano: Marco Damilano\, direttore de l’Espresso\, molto noto anche al pubblico televisivo per i suoi “spiegoni” a Propaganda Live su La7; Dario Fabbri\, giornalista e analista esperto di geopolitica per la rivista Limes; la professoressa Antonella Viola\, immunologa dell’Università di Padova. E poi Maurizio Mannoni\, conduttore storico di Linea Notte\, Rai3\, che avrà il compito di moderare l’incontro.
URL:https://www.thatsamiata.com/event/notizie-dallamiata/
LOCATION:Castel del Piano\, Castel del Piano\, Grosseto\, 58033\, Italia
CATEGORIES:Cultura,Eventi
ATTACH;FMTTYPE=image/jpeg:https://www.thatsamiata.com/wp-content/uploads/2023/07/DAMILANO.jpg
END:VEVENT
BEGIN:VEVENT
DTSTART;VALUE=DATE:20200725
DTEND;VALUE=DATE:20200726
DTSTAMP:20260419T211203
CREATED:20200707T080733Z
LAST-MODIFIED:20231018T162706Z
UID:10000269-1595635200-1595721599@www.thatsamiata.com
SUMMARY:Passeggiata archeologica al Noceto /// Notti dell'Archeologia 2020
DESCRIPTION:Domenica 19 luglio\, dalle 16.00 alle 19.00 si svolgerà una passeggiata archeologica al Noceto. Si tratta di una scampagnata da Castel del Piano al sito romano e medievale del Noceto. Osservazione del paesaggio\npresente alla ricerca di tracce dei paesaggi che si sono susseguiti dalla preistoria al medioevo. L’evento è stato organizzato dall’Associazione Imberciadori all’interno del calendario di eventi “Notti dell’Archeologia”. La prenotazione è obbligatoria e l’ingresso è libero. Si tratta di un appuntamento itinerante\, alla scoperta del territorio.  \n\nMAGGIORI INFORMAZIONI\nSem Scaramucci (Associazione Imberciadori)\n(+39) 329 04 41 039\nassociazione.imberciadori@gmail.com\nhttps://www.facebook.com/palazzonerucci/\nnon accessibile a disabili
URL:https://www.thatsamiata.com/event/notti-dellarcheologia-passeggiata-archeologica-al-noceto/
LOCATION:Castel del Piano\, Castel del Piano\, Grosseto\, 58033\, Italia
CATEGORIES:Cultura,Eventi,Sport
ATTACH;FMTTYPE=image/jpeg:https://www.thatsamiata.com/wp-content/uploads/2023/07/Sala_Imberciadori.jpg
END:VEVENT
BEGIN:VEVENT
DTSTART;VALUE=DATE:20200719
DTEND;VALUE=DATE:20200720
DTSTAMP:20260419T211203
CREATED:20200707T081630Z
LAST-MODIFIED:20231018T162611Z
UID:10000268-1595116800-1595203199@www.thatsamiata.com
SUMMARY:Archeologia e Prestoria in paese /// Notti dell'Archeologia 2020
DESCRIPTION:Sabato 25 luglio dalle 21.00 alle 23.00 si svolgerà una caratteristica passeggiata nel paese di Castel del Piano “Archeologia e preistoria in paese”. Attraverso l’archeologia sperimentale verranno rievocati gesti della vita quotidiana del nostro passato. Dimostrazione della scheggiatura della pietra e dell’accensione del fuoco con tecniche preistoriche. \nMAGGIORI INFORMAZIONI\nSem Scaramucci (Associazione Imberciadori)\n(+39) 329 04 41 039\nassociazione.imberciadori@gmail.com\nhttps://www.facebook.com/palazzonerucci/\nnon accessibile a disabili
URL:https://www.thatsamiata.com/event/notti-dellarcheologia-archeologia-e-prestoria-in-paese/
LOCATION:Castel del Piano\, Castel del Piano\, Grosseto\, 58033\, Italia
CATEGORIES:Cultura,Eventi,Sport
ATTACH;FMTTYPE=image/jpeg:https://www.thatsamiata.com/wp-content/uploads/2023/07/Antiquarium.jpg
END:VEVENT
BEGIN:VEVENT
DTSTART;VALUE=DATE:20200718
DTEND;VALUE=DATE:20200719
DTSTAMP:20260419T211203
CREATED:20200713T072652Z
LAST-MODIFIED:20231018T162924Z
UID:10000270-1595030400-1595116799@www.thatsamiata.com
SUMMARY:L'Amiata ricorda Caterina Bueno 2020
DESCRIPTION:L’Amiata ricorda Caterina Bueno sabato 18 luglio con due appuntamenti\, entrambi a Castel del Piano. Alle 18.30 “Aperitivo in arte” alle logge di Palazzo Nerucci dove saranno esposti il dipinto e gli studi preparatori di Jacopo Ginanneschi “La casa di Xavier Bueno“. Alle 21\, al Parco del Tennis\, proiezione del docufilm “Caterina” . La visione sarà preceduta dal Coro dei Cardellini del Fontanino” e da Pamela Giorgi\, curatrice dell’Archivio di Caterina Bueno e dal regista Francesco Corsi. L’evento patrocinato dal comune di Castel del Piano è organizzato dall’Associazione Imberciadori e dalla Nuova Pro Loco di Castel del Piano. \nCaterina Bueno (1943 – 2007) ha avuto un ruolo fondamentale per il recupero e la diffusione dei canti popolari toscani. Negli anni sessanta Caterina\, che proveniva da una famiglia altoborghese\, intellettuale e cosmopolita\, ha intrapreso un percorso di ricerca©ca di grande originalità. Ha raggiunto tanti luoghi della campagna toscana per incontrare gli abitanti\, uomini e donne che ricordano e cantano stornelli\, canti e memorie popolari. Caterina ha così registrato un vero e proprio repertorio che ha poi fatto conoscere con i suoi dischi e concerti. Le canzoni popolari toscane vengono interpretate da Bueno con grande attenzione filologica: i canti (in ottava rima\, ninne nanne\, ballate) sono stati registrati anche sul monte Amiata. \nECCO COME PRENOTARSI\nI posti sono limitati\, solo 48. La prenotazione è consigliata\, per farlo chiamate il numero (+39) 320 75 31 404 Nuova Proloco di Castel del Piano o utilizzate QUESTO LINK 
URL:https://www.thatsamiata.com/event/lamiata-ricorda-caterina-bueno/
LOCATION:Castel del Piano\, Castel del Piano\, Grosseto\, 58033\, Italia
CATEGORIES:Arte,Cultura,Eventi,Musica
ATTACH;FMTTYPE=image/jpeg:https://www.thatsamiata.com/wp-content/uploads/2023/07/coro-3.jpg
END:VEVENT
BEGIN:VEVENT
DTSTART;TZID=Europe/Rome:20191228T190000
DTEND;TZID=Europe/Rome:20191228T233000
DTSTAMP:20260419T211203
CREATED:20190123T151742Z
LAST-MODIFIED:20231017T155351Z
UID:10000167-1577559600-1577575800@www.thatsamiata.com
SUMMARY:Presepe Vivente - Castel del Piano 2019
DESCRIPTION:Il presepe vivente di Castel del Piano è una vera e propria rievocazione della Natività con personaggi\, arti e mestieri dell’antichità\, nella magica cornice del centro storico di Castel del Piano. Si svolge\, ormai da anni\, ogni 28 dicembre. Ogni anno\, al Presepe vivente si aggiungono nuovi personaggi\, nuove idee e nuove animazioni per rendere l’evento sempre più particolare e apprezzato dalla popolazione locale e dai turisti che\, durante la festività natalizie\, frequentano la nostra montagna.
URL:https://www.thatsamiata.com/event/presepe-vivente/
LOCATION:Castel del Piano\, Castel del Piano\, Grosseto\, 58033\, Italia
CATEGORIES:Eventi,Festività,Tradizioni
ATTACH;FMTTYPE=image/jpeg:https://www.thatsamiata.com/wp-content/uploads/2023/07/presepe-vivente.jpg
END:VEVENT
BEGIN:VEVENT
DTSTART;TZID=Europe/Rome:20190908T100000
DTEND;TZID=Europe/Rome:20190908T190000
DTSTAMP:20260419T211203
CREATED:20190124T100039Z
LAST-MODIFIED:20231019T094942Z
UID:10000078-1567936800-1567969200@www.thatsamiata.com
SUMMARY:Palio delle Contrade /// Castel del Piano 2019
DESCRIPTION:Se c’è una manifestazione a Castel del Piano che in se racchiude sacro e profano\, entusiasmi e pene\, gioie e dolori\, sentimenti di amore e attaccamento al proprio rione di appartenenza\, questa è senza dubbio il Palio delle Contrade o Palio della Madonna delle Grazie. La storia\, rispolverata più volte per dare lustro a questa manifestazione che può raccontare e che tanto ancora saprà coinvolgere questa comunità amiatina\, trova il suo “Inizio” nella tradizione plurisecolare di venerare la Madonna Santissima delle Grazie\, con solenni funzioni e con corse dei cavalli. La corsa si svolge ogni anno l’8 settembre ma è un vero e proprio evento che coinvolge tutta la cittadinanza a partire da una settimana prima della corsa. La domenica che precede l’otto settembre viene presentato il Cencio nei giorni successivi si svolgono le varie feste organizzate dalle quattro contrade  del paese: Borgo\, Monumento\, Poggio e Storte.\nLe sue origini sono risalenti alla “Fiera di Merci e Bestiame” del 9 settembre 1402\, concesso dalla Repubblica di Siena\, che aveva conquistato il paese nel 1331\, per mano del famoso Guidoriccio da Fogliano. Sarà poi Ildebrando Imberciadori (1902-1995) illustre storico e accademico dei Georgofili\, a ipotizzare  che le prime giostre possano essere iniziate proprio in quel periodo\, con sfide tra i mercanti e i barrocciai accorsi per la grande festa.  Sono poi stati ulteriori studi a far emergere anche un’altra importante data di nascita del Palio delle Contrade\, riconducibile  all’adunanza del 14 luglio del 1765 della Deputazione della SS. Madonna delle Grazie. Una storica citazione riposta il seguente testo: “Fu determinato farsi un Palio di valore circa quindici scudi da giocarsi alla Corsa dei Cavalli quando potrà riuscire nelle Storte”. Ed infatti il Palio fu corso il 7 luglio 1771 in occasione dell’ incoronamento della Santissima Madonna delle Grazie da parte del Granduca di Toscana Leopoldo di Lorena e fu vinto dalla Comunità di Montenero. Si può quindi ben dire che la “carriera” di Castel del Piano ha assunto da quell’anno la struttura attuale. Dopo il 1771 le carriere\, nel quadro delle festività castelpianesi\, continuarono per tutto l’ottocento e i primi del novecento. Nel dopoguerra le corse sono continuate ma è nel 1968 che fu decisa una radicale trasformazione delle corse dei cavalli in Palio delle Contrade\, le quali\, quest’ultime scelte per affinità di territorio e tradizionali divisioni in rioni. Altro importante periodo che ha segnato lo spartiacque tra il vecchio e il nuovo sono stati gli anni 90.
URL:https://www.thatsamiata.com/event/palio-delle-contrade/
LOCATION:Castel del Piano\, Castel del Piano\, Grosseto\, 58033\, Italia
CATEGORIES:Eventi,Festività,Tradizioni
ATTACH;FMTTYPE=image/jpeg:https://www.thatsamiata.com/wp-content/uploads/2023/07/corsa-cavalli-palio-4.jpg
END:VEVENT
BEGIN:VEVENT
DTSTART;VALUE=DATE:20190830
DTEND;VALUE=DATE:20190831
DTSTAMP:20260419T211203
CREATED:20190822T081345Z
LAST-MODIFIED:20231018T135844Z
UID:10000205-1567123200-1567209599@www.thatsamiata.com
SUMMARY:Notte Bianca - Castel del Piano 2019
DESCRIPTION:Da ormai dieci anni si ripete con grande successo di pubblico. La Notte Bianca a Castel del Piano è un appuntamento clou dell’estate amiatina\, moltissimi punti di attrazione\, e poi musica\, cibo\, spettacoli suggestivi in una delle cornici più belle del monte Amiata.
URL:https://www.thatsamiata.com/event/notte-bianca-2/
LOCATION:Castel del Piano\, Castel del Piano\, Grosseto\, 58033\, Italia
CATEGORIES:Enogastronomia,Eventi,Musica
ATTACH;FMTTYPE=image/jpeg:https://www.thatsamiata.com/wp-content/uploads/2023/07/castel_del_piano-8.jpg
END:VEVENT
BEGIN:VEVENT
DTSTART;VALUE=DATE:20190816
DTEND;VALUE=DATE:20190818
DTSTAMP:20260419T211203
CREATED:20190723T094525Z
LAST-MODIFIED:20231018T160111Z
UID:10000256-1565913600-1566086399@www.thatsamiata.com
SUMMARY:A Tutta Pasta 2019
DESCRIPTION:Due giorni\, quelli del 16 e 17 agosto\, ricchi di piatti tipici della tradizione locale\, ma potremmo dire regionale. La pasta è la regina di due giorni di festa a lei dedicata nella contrada Le Storte\, di Castel del Piano.
URL:https://www.thatsamiata.com/event/a-tutta-pasta/
LOCATION:Castel del Piano\, Castel del Piano\, Grosseto\, 58033\, Italia
CATEGORIES:Enogastronomia,Eventi,Musica
ATTACH;FMTTYPE=image/jpeg:https://www.thatsamiata.com/wp-content/uploads/2023/07/storte.jpg
END:VEVENT
BEGIN:VEVENT
DTSTART;VALUE=DATE:20190801
DTEND;VALUE=DATE:20190805
DTSTAMP:20260419T211203
CREATED:20190530T090052Z
LAST-MODIFIED:20231013T090556Z
UID:10000063-1564617600-1564963199@www.thatsamiata.com
SUMMARY:Gora Summer Festival 2019
DESCRIPTION:Dal 1 al 4 agosto a Castel del Piano si svolgerà la terza edizione del Gora Summer Festival. Una quattro giorni di Musica e Street Local Food immerse nella verde cornice del Parco dei Cigni – Latte di Luna – La Gora a Castel del Piano\, una location storica per la popolazione\, un luogo di aggregazione che si tramanda da generazione in generazione\, per questo motivo gli organizzatori del Gora Summer Festival hanno scelto questo spazio per la Terza Edizione che vedrà esibirsi sul palco band affermate e live set di spessore musicale. \nAll’interno del parco troveremo una birreria\, una birroteca\, una pizzeria\, una panineria\, una friggitoria\, una lumacheria e una pasticceria. Inoltre saranno a disposizione zone relax\, live paintings\, posti a sedere\, un mercato dell’artigianato aperto fino a tarda notte\, zone dibattiti (un variegato programma di appuntamenti culturali che dalla storia alla letteratura offriranno occasioni di approfondimento non solo per gli adulti ma anche per i più piccoli con laboratori dedicati) \nL’ingresso è GRATUITO per mangiare e bere sarà necessario acquistare i ticket alla cassa.\nA breve saranno presentati gli artisti ufficiali e tutte le info del FestivalIl Festival\, ideato e organizzato dall’Associazione “La Gora”.
URL:https://www.thatsamiata.com/event/gora-summer-festival/
LOCATION:Castel del Piano\, Castel del Piano\, Grosseto\, 58033\, Italia
CATEGORIES:Cultura,Eventi,Festività,Musica
ATTACH;FMTTYPE=image/jpeg:https://www.thatsamiata.com/wp-content/uploads/2023/07/gora_summer_festival-4.jpeg
END:VEVENT
BEGIN:VEVENT
DTSTART;VALUE=DATE:20190407
DTEND;VALUE=DATE:20190408
DTSTAMP:20260419T211203
CREATED:20190402T074617Z
LAST-MODIFIED:20231018T141913Z
UID:10000217-1554595200-1554681599@www.thatsamiata.com
SUMMARY:Festeggiamo la Parola 2019
DESCRIPTION:La Libreria Sognalibro\, in collaborazione con l’Associazione Ildebrando Imberciadori e il Centro Commerciale Naturale di Castel del Piano\, organizza una giornata dedicata alla Parola\, declinata in più modiLa Libreria Sognalibro\, in collaborazione con l’Associazione Ildebrando Imberciadori e il Centro Commerciale Naturale di Castel del Piano\, organizza una giornata dedicata alla Parola\, declinata in più modi.
URL:https://www.thatsamiata.com/event/festeggiamo-la-parola/
LOCATION:Castel del Piano\, Castel del Piano\, Grosseto\, 58033\, Italia
CATEGORIES:Cultura,Eventi
ATTACH;FMTTYPE=image/jpeg:https://www.thatsamiata.com/wp-content/uploads/2023/07/PHOTO-2019-03-19-11-20-49.jpg
END:VEVENT
BEGIN:VEVENT
DTSTART;VALUE=DATE:20181208
DTEND;VALUE=DATE:20190107
DTSTAMP:20260419T211203
CREATED:20181204T082418Z
LAST-MODIFIED:20231017T150612Z
UID:10000133-1544227200-1546819199@www.thatsamiata.com
SUMMARY:Natale a Castel del Piano 2018
DESCRIPTION:A Castel del Piano il Natale indossa gli abiti della tradizione. Molte le iniziative in programma nel paese amiatino a partire proprio da sabato 8\, giorno in cui sarà inaugurata il villaggio di Babbo Natale\, allestito nelle sale del palazzo Comunale. Tra le iniziative di maggior successo\, in grado di richiamare un buon numero di turisti è il presepe vivente\, ambientato nelle vie del centro storico. \nLEGGI ANCHE: L’AMIATA CON  UN GRANDE VILLAGGIO NATALIZIO
URL:https://www.thatsamiata.com/event/natale-a-castel-del-piano/
LOCATION:Castel del Piano\, Castel del Piano\, Grosseto\, 58033\, Italia
CATEGORIES:Cultura,Eventi,Festività,Musica,Tradizioni
ATTACH;FMTTYPE=image/jpeg:https://www.thatsamiata.com/wp-content/uploads/2023/07/foto-1.jpg
END:VEVENT
BEGIN:VEVENT
DTSTART;VALUE=DATE:20180908
DTEND;VALUE=DATE:20180909
DTSTAMP:20260419T211203
CREATED:20180903T092309Z
LAST-MODIFIED:20231013T102309Z
UID:10000077-1536364800-1536451199@www.thatsamiata.com
SUMMARY:Palio delle Contrade - Castel del Piano 2018
DESCRIPTION:Sabato 8 settembre a Castel del Piano\, si correrà la 50esima edizione del Palio delle Contrade\, in versione moderna. Di seguito è possibile leggere tutti gli articoli dedicati a questo evento. \nNews\nA Castel del Piano si respira aria di Palio\nEcco il Drappellone della 50esima edizione del Palio delle Contrade \n 
URL:https://www.thatsamiata.com/event/palio-delle-contrade-2018/
LOCATION:Castel del Piano\, Castel del Piano\, Grosseto\, 58033\, Italia
CATEGORIES:Eventi,Festività,Tradizioni
ATTACH;FMTTYPE=image/jpeg:https://www.thatsamiata.com/wp-content/uploads/2023/07/O0A1916_070916.jpg
END:VEVENT
BEGIN:VEVENT
DTSTART;VALUE=DATE:20180802
DTEND;VALUE=DATE:20180806
DTSTAMP:20260419T211203
CREATED:20180711T083632Z
LAST-MODIFIED:20231013T090706Z
UID:10000065-1533168000-1533513599@www.thatsamiata.com
SUMMARY:Gora Summer Festival 2018
DESCRIPTION:Dal 2 al 5 agosto a Castel del Piano si svolgerà la seconda edizione del Gora Summer Festival e tra gli artisti spunta il nome di Bobo Rondelli. Il Festival\, ideato e organizzato dall’Associazione “La Gora” è giunto alla sua seconda edizione e anche quest’anno si svolgerà nella verde cornice del Parco dei Cigni.\nPROGRAMMA COMPLETO
URL:https://www.thatsamiata.com/event/gora-summer-festival-2018/
LOCATION:Castel del Piano\, Castel del Piano\, Grosseto\, 58033\, Italia
CATEGORIES:Cultura,Enogastronomia,Eventi,Musica
ATTACH;FMTTYPE=image/jpeg:https://www.thatsamiata.com/wp-content/uploads/2023/07/gora_summer_festival-4.jpeg
END:VEVENT
BEGIN:VEVENT
DTSTART;VALUE=DATE:20180720
DTEND;VALUE=DATE:20180723
DTSTAMP:20260419T211203
CREATED:20180719T082251Z
LAST-MODIFIED:20231013T092329Z
UID:10000071-1532044800-1532303999@www.thatsamiata.com
SUMMARY:Sagra del Maiale e della Norcineria Ciola 2018
DESCRIPTION:L’estate di Castel del Piano si arricchisce quest’anno di un nuovo evento creato dalla Contrada del Monumento in collaborazione con la società sportiva Neania e quattro Macellerie del paese amiatino\, il 20\,21\,22 Luglio La sagra del Maiale e della Norcineria Ciola.
URL:https://www.thatsamiata.com/event/sagra-del-maiale-e-della-norcineria-ciola/
LOCATION:Castel del Piano\, Castel del Piano\, Grosseto\, 58033\, Italia
CATEGORIES:Enogastronomia,Eventi
ATTACH;FMTTYPE=image/jpeg:https://www.thatsamiata.com/wp-content/uploads/2023/07/sagra-maiale-e1496912059190-1440x564_c.jpg
END:VEVENT
END:VCALENDAR