BEGIN:VCALENDAR
VERSION:2.0
PRODID:-//Thatsamiata - ECPv6.15.20//NONSGML v1.0//EN
CALSCALE:GREGORIAN
METHOD:PUBLISH
X-ORIGINAL-URL:https://www.thatsamiata.com
X-WR-CALDESC:Eventi per Thatsamiata
REFRESH-INTERVAL;VALUE=DURATION:PT1H
X-Robots-Tag:noindex
X-PUBLISHED-TTL:PT1H
BEGIN:VTIMEZONE
TZID:Europe/Rome
BEGIN:DAYLIGHT
TZOFFSETFROM:+0100
TZOFFSETTO:+0200
TZNAME:CEST
DTSTART:20170326T010000
END:DAYLIGHT
BEGIN:STANDARD
TZOFFSETFROM:+0200
TZOFFSETTO:+0100
TZNAME:CET
DTSTART:20171029T010000
END:STANDARD
BEGIN:DAYLIGHT
TZOFFSETFROM:+0100
TZOFFSETTO:+0200
TZNAME:CEST
DTSTART:20180325T010000
END:DAYLIGHT
BEGIN:STANDARD
TZOFFSETFROM:+0200
TZOFFSETTO:+0100
TZNAME:CET
DTSTART:20181028T010000
END:STANDARD
BEGIN:DAYLIGHT
TZOFFSETFROM:+0100
TZOFFSETTO:+0200
TZNAME:CEST
DTSTART:20190331T010000
END:DAYLIGHT
BEGIN:STANDARD
TZOFFSETFROM:+0200
TZOFFSETTO:+0100
TZNAME:CET
DTSTART:20191027T010000
END:STANDARD
BEGIN:DAYLIGHT
TZOFFSETFROM:+0100
TZOFFSETTO:+0200
TZNAME:CEST
DTSTART:20200329T010000
END:DAYLIGHT
BEGIN:STANDARD
TZOFFSETFROM:+0200
TZOFFSETTO:+0100
TZNAME:CET
DTSTART:20201025T010000
END:STANDARD
END:VTIMEZONE
BEGIN:VEVENT
DTSTART;TZID=Europe/Rome:20190908T100000
DTEND;TZID=Europe/Rome:20190908T190000
DTSTAMP:20260419T225947
CREATED:20190124T100039Z
LAST-MODIFIED:20231019T094942Z
UID:10000078-1567936800-1567969200@www.thatsamiata.com
SUMMARY:Palio delle Contrade /// Castel del Piano 2019
DESCRIPTION:Se c’è una manifestazione a Castel del Piano che in se racchiude sacro e profano\, entusiasmi e pene\, gioie e dolori\, sentimenti di amore e attaccamento al proprio rione di appartenenza\, questa è senza dubbio il Palio delle Contrade o Palio della Madonna delle Grazie. La storia\, rispolverata più volte per dare lustro a questa manifestazione che può raccontare e che tanto ancora saprà coinvolgere questa comunità amiatina\, trova il suo “Inizio” nella tradizione plurisecolare di venerare la Madonna Santissima delle Grazie\, con solenni funzioni e con corse dei cavalli. La corsa si svolge ogni anno l’8 settembre ma è un vero e proprio evento che coinvolge tutta la cittadinanza a partire da una settimana prima della corsa. La domenica che precede l’otto settembre viene presentato il Cencio nei giorni successivi si svolgono le varie feste organizzate dalle quattro contrade  del paese: Borgo\, Monumento\, Poggio e Storte.\nLe sue origini sono risalenti alla “Fiera di Merci e Bestiame” del 9 settembre 1402\, concesso dalla Repubblica di Siena\, che aveva conquistato il paese nel 1331\, per mano del famoso Guidoriccio da Fogliano. Sarà poi Ildebrando Imberciadori (1902-1995) illustre storico e accademico dei Georgofili\, a ipotizzare  che le prime giostre possano essere iniziate proprio in quel periodo\, con sfide tra i mercanti e i barrocciai accorsi per la grande festa.  Sono poi stati ulteriori studi a far emergere anche un’altra importante data di nascita del Palio delle Contrade\, riconducibile  all’adunanza del 14 luglio del 1765 della Deputazione della SS. Madonna delle Grazie. Una storica citazione riposta il seguente testo: “Fu determinato farsi un Palio di valore circa quindici scudi da giocarsi alla Corsa dei Cavalli quando potrà riuscire nelle Storte”. Ed infatti il Palio fu corso il 7 luglio 1771 in occasione dell’ incoronamento della Santissima Madonna delle Grazie da parte del Granduca di Toscana Leopoldo di Lorena e fu vinto dalla Comunità di Montenero. Si può quindi ben dire che la “carriera” di Castel del Piano ha assunto da quell’anno la struttura attuale. Dopo il 1771 le carriere\, nel quadro delle festività castelpianesi\, continuarono per tutto l’ottocento e i primi del novecento. Nel dopoguerra le corse sono continuate ma è nel 1968 che fu decisa una radicale trasformazione delle corse dei cavalli in Palio delle Contrade\, le quali\, quest’ultime scelte per affinità di territorio e tradizionali divisioni in rioni. Altro importante periodo che ha segnato lo spartiacque tra il vecchio e il nuovo sono stati gli anni 90.
URL:https://www.thatsamiata.com/event/palio-delle-contrade/
LOCATION:Castel del Piano\, Castel del Piano\, Grosseto\, 58033\, Italia
CATEGORIES:Eventi,Festività,Tradizioni
ATTACH;FMTTYPE=image/jpeg:https://www.thatsamiata.com/wp-content/uploads/2023/07/corsa-cavalli-palio-4.jpg
END:VEVENT
BEGIN:VEVENT
DTSTART;VALUE=DATE:20190830
DTEND;VALUE=DATE:20190831
DTSTAMP:20260419T225947
CREATED:20190822T081345Z
LAST-MODIFIED:20231018T135844Z
UID:10000205-1567123200-1567209599@www.thatsamiata.com
SUMMARY:Notte Bianca - Castel del Piano 2019
DESCRIPTION:Da ormai dieci anni si ripete con grande successo di pubblico. La Notte Bianca a Castel del Piano è un appuntamento clou dell’estate amiatina\, moltissimi punti di attrazione\, e poi musica\, cibo\, spettacoli suggestivi in una delle cornici più belle del monte Amiata.
URL:https://www.thatsamiata.com/event/notte-bianca-2/
LOCATION:Castel del Piano\, Castel del Piano\, Grosseto\, 58033\, Italia
CATEGORIES:Enogastronomia,Eventi,Musica
ATTACH;FMTTYPE=image/jpeg:https://www.thatsamiata.com/wp-content/uploads/2023/07/castel_del_piano-8.jpg
END:VEVENT
BEGIN:VEVENT
DTSTART;VALUE=DATE:20190816
DTEND;VALUE=DATE:20190818
DTSTAMP:20260419T225947
CREATED:20190723T094525Z
LAST-MODIFIED:20231018T160111Z
UID:10000256-1565913600-1566086399@www.thatsamiata.com
SUMMARY:A Tutta Pasta 2019
DESCRIPTION:Due giorni\, quelli del 16 e 17 agosto\, ricchi di piatti tipici della tradizione locale\, ma potremmo dire regionale. La pasta è la regina di due giorni di festa a lei dedicata nella contrada Le Storte\, di Castel del Piano.
URL:https://www.thatsamiata.com/event/a-tutta-pasta/
LOCATION:Castel del Piano\, Castel del Piano\, Grosseto\, 58033\, Italia
CATEGORIES:Enogastronomia,Eventi,Musica
ATTACH;FMTTYPE=image/jpeg:https://www.thatsamiata.com/wp-content/uploads/2023/07/storte.jpg
END:VEVENT
BEGIN:VEVENT
DTSTART;VALUE=DATE:20190801
DTEND;VALUE=DATE:20190805
DTSTAMP:20260419T225947
CREATED:20190530T090052Z
LAST-MODIFIED:20231013T090556Z
UID:10000063-1564617600-1564963199@www.thatsamiata.com
SUMMARY:Gora Summer Festival 2019
DESCRIPTION:Dal 1 al 4 agosto a Castel del Piano si svolgerà la terza edizione del Gora Summer Festival. Una quattro giorni di Musica e Street Local Food immerse nella verde cornice del Parco dei Cigni – Latte di Luna – La Gora a Castel del Piano\, una location storica per la popolazione\, un luogo di aggregazione che si tramanda da generazione in generazione\, per questo motivo gli organizzatori del Gora Summer Festival hanno scelto questo spazio per la Terza Edizione che vedrà esibirsi sul palco band affermate e live set di spessore musicale. \nAll’interno del parco troveremo una birreria\, una birroteca\, una pizzeria\, una panineria\, una friggitoria\, una lumacheria e una pasticceria. Inoltre saranno a disposizione zone relax\, live paintings\, posti a sedere\, un mercato dell’artigianato aperto fino a tarda notte\, zone dibattiti (un variegato programma di appuntamenti culturali che dalla storia alla letteratura offriranno occasioni di approfondimento non solo per gli adulti ma anche per i più piccoli con laboratori dedicati) \nL’ingresso è GRATUITO per mangiare e bere sarà necessario acquistare i ticket alla cassa.\nA breve saranno presentati gli artisti ufficiali e tutte le info del FestivalIl Festival\, ideato e organizzato dall’Associazione “La Gora”.
URL:https://www.thatsamiata.com/event/gora-summer-festival/
LOCATION:Castel del Piano\, Castel del Piano\, Grosseto\, 58033\, Italia
CATEGORIES:Cultura,Eventi,Festività,Musica
ATTACH;FMTTYPE=image/jpeg:https://www.thatsamiata.com/wp-content/uploads/2023/07/gora_summer_festival-4.jpeg
END:VEVENT
BEGIN:VEVENT
DTSTART;VALUE=DATE:20190407
DTEND;VALUE=DATE:20190408
DTSTAMP:20260419T225947
CREATED:20190402T074617Z
LAST-MODIFIED:20231018T141913Z
UID:10000217-1554595200-1554681599@www.thatsamiata.com
SUMMARY:Festeggiamo la Parola 2019
DESCRIPTION:La Libreria Sognalibro\, in collaborazione con l’Associazione Ildebrando Imberciadori e il Centro Commerciale Naturale di Castel del Piano\, organizza una giornata dedicata alla Parola\, declinata in più modiLa Libreria Sognalibro\, in collaborazione con l’Associazione Ildebrando Imberciadori e il Centro Commerciale Naturale di Castel del Piano\, organizza una giornata dedicata alla Parola\, declinata in più modi.
URL:https://www.thatsamiata.com/event/festeggiamo-la-parola/
LOCATION:Castel del Piano\, Castel del Piano\, Grosseto\, 58033\, Italia
CATEGORIES:Cultura,Eventi
ATTACH;FMTTYPE=image/jpeg:https://www.thatsamiata.com/wp-content/uploads/2023/07/PHOTO-2019-03-19-11-20-49.jpg
END:VEVENT
BEGIN:VEVENT
DTSTART;VALUE=DATE:20181208
DTEND;VALUE=DATE:20190107
DTSTAMP:20260419T225947
CREATED:20181204T082418Z
LAST-MODIFIED:20231017T150612Z
UID:10000133-1544227200-1546819199@www.thatsamiata.com
SUMMARY:Natale a Castel del Piano 2018
DESCRIPTION:A Castel del Piano il Natale indossa gli abiti della tradizione. Molte le iniziative in programma nel paese amiatino a partire proprio da sabato 8\, giorno in cui sarà inaugurata il villaggio di Babbo Natale\, allestito nelle sale del palazzo Comunale. Tra le iniziative di maggior successo\, in grado di richiamare un buon numero di turisti è il presepe vivente\, ambientato nelle vie del centro storico. \nLEGGI ANCHE: L’AMIATA CON  UN GRANDE VILLAGGIO NATALIZIO
URL:https://www.thatsamiata.com/event/natale-a-castel-del-piano/
LOCATION:Castel del Piano\, Castel del Piano\, Grosseto\, 58033\, Italia
CATEGORIES:Cultura,Eventi,Festività,Musica,Tradizioni
ATTACH;FMTTYPE=image/jpeg:https://www.thatsamiata.com/wp-content/uploads/2023/07/foto-1.jpg
END:VEVENT
BEGIN:VEVENT
DTSTART;VALUE=DATE:20180908
DTEND;VALUE=DATE:20180909
DTSTAMP:20260419T225947
CREATED:20180903T092309Z
LAST-MODIFIED:20231013T102309Z
UID:10000077-1536364800-1536451199@www.thatsamiata.com
SUMMARY:Palio delle Contrade - Castel del Piano 2018
DESCRIPTION:Sabato 8 settembre a Castel del Piano\, si correrà la 50esima edizione del Palio delle Contrade\, in versione moderna. Di seguito è possibile leggere tutti gli articoli dedicati a questo evento. \nNews\nA Castel del Piano si respira aria di Palio\nEcco il Drappellone della 50esima edizione del Palio delle Contrade \n 
URL:https://www.thatsamiata.com/event/palio-delle-contrade-2018/
LOCATION:Castel del Piano\, Castel del Piano\, Grosseto\, 58033\, Italia
CATEGORIES:Eventi,Festività,Tradizioni
ATTACH;FMTTYPE=image/jpeg:https://www.thatsamiata.com/wp-content/uploads/2023/07/O0A1916_070916.jpg
END:VEVENT
BEGIN:VEVENT
DTSTART;VALUE=DATE:20180802
DTEND;VALUE=DATE:20180806
DTSTAMP:20260419T225947
CREATED:20180711T083632Z
LAST-MODIFIED:20231013T090706Z
UID:10000065-1533168000-1533513599@www.thatsamiata.com
SUMMARY:Gora Summer Festival 2018
DESCRIPTION:Dal 2 al 5 agosto a Castel del Piano si svolgerà la seconda edizione del Gora Summer Festival e tra gli artisti spunta il nome di Bobo Rondelli. Il Festival\, ideato e organizzato dall’Associazione “La Gora” è giunto alla sua seconda edizione e anche quest’anno si svolgerà nella verde cornice del Parco dei Cigni.\nPROGRAMMA COMPLETO
URL:https://www.thatsamiata.com/event/gora-summer-festival-2018/
LOCATION:Castel del Piano\, Castel del Piano\, Grosseto\, 58033\, Italia
CATEGORIES:Cultura,Enogastronomia,Eventi,Musica
ATTACH;FMTTYPE=image/jpeg:https://www.thatsamiata.com/wp-content/uploads/2023/07/gora_summer_festival-4.jpeg
END:VEVENT
BEGIN:VEVENT
DTSTART;VALUE=DATE:20180720
DTEND;VALUE=DATE:20180723
DTSTAMP:20260419T225947
CREATED:20180719T082251Z
LAST-MODIFIED:20231013T092329Z
UID:10000071-1532044800-1532303999@www.thatsamiata.com
SUMMARY:Sagra del Maiale e della Norcineria Ciola 2018
DESCRIPTION:L’estate di Castel del Piano si arricchisce quest’anno di un nuovo evento creato dalla Contrada del Monumento in collaborazione con la società sportiva Neania e quattro Macellerie del paese amiatino\, il 20\,21\,22 Luglio La sagra del Maiale e della Norcineria Ciola.
URL:https://www.thatsamiata.com/event/sagra-del-maiale-e-della-norcineria-ciola/
LOCATION:Castel del Piano\, Castel del Piano\, Grosseto\, 58033\, Italia
CATEGORIES:Enogastronomia,Eventi
ATTACH;FMTTYPE=image/jpeg:https://www.thatsamiata.com/wp-content/uploads/2023/07/sagra-maiale-e1496912059190-1440x564_c.jpg
END:VEVENT
END:VCALENDAR