BEGIN:VCALENDAR
VERSION:2.0
PRODID:-//Thatsamiata - ECPv6.15.20//NONSGML v1.0//EN
CALSCALE:GREGORIAN
METHOD:PUBLISH
X-ORIGINAL-URL:https://www.thatsamiata.com
X-WR-CALDESC:Eventi per Thatsamiata
REFRESH-INTERVAL;VALUE=DURATION:PT1H
X-Robots-Tag:noindex
X-PUBLISHED-TTL:PT1H
BEGIN:VTIMEZONE
TZID:Europe/Rome
BEGIN:DAYLIGHT
TZOFFSETFROM:+0100
TZOFFSETTO:+0200
TZNAME:CEST
DTSTART:20180325T010000
END:DAYLIGHT
BEGIN:STANDARD
TZOFFSETFROM:+0200
TZOFFSETTO:+0100
TZNAME:CET
DTSTART:20181028T010000
END:STANDARD
BEGIN:DAYLIGHT
TZOFFSETFROM:+0100
TZOFFSETTO:+0200
TZNAME:CEST
DTSTART:20190331T010000
END:DAYLIGHT
BEGIN:STANDARD
TZOFFSETFROM:+0200
TZOFFSETTO:+0100
TZNAME:CET
DTSTART:20191027T010000
END:STANDARD
BEGIN:DAYLIGHT
TZOFFSETFROM:+0100
TZOFFSETTO:+0200
TZNAME:CEST
DTSTART:20200329T010000
END:DAYLIGHT
BEGIN:STANDARD
TZOFFSETFROM:+0200
TZOFFSETTO:+0100
TZNAME:CET
DTSTART:20201025T010000
END:STANDARD
END:VTIMEZONE
BEGIN:VEVENT
DTSTART;TZID=Europe/Rome:20190822T000000
DTEND;TZID=Europe/Rome:20190825T000000
DTSTAMP:20260422T182031
CREATED:20190125T141402Z
LAST-MODIFIED:20231018T140957Z
UID:10000212-1566432000-1566691200@www.thatsamiata.com
SUMMARY:Sagra della Polenta - Catabbio 2019
DESCRIPTION:Si tratta di un’originale manifestazione gastronomica dove il piatto principe è la polenta\, condita con una vasta scelta di sughi.  L’evento si svolge nella suggestiva cornice del paese antico di Catabbio\, borgo che si trova nel comune di Semproniano. La manifestazione prende vita nella settimana finale di agosto.
URL:https://www.thatsamiata.com/event/sagra-della-polenta/
LOCATION:Catabbio\, loc. Catabbio\, Semproniano\, Grosseto\, 58055\, Italia
CATEGORIES:Enogastronomia,Eventi
ATTACH;FMTTYPE=image/jpeg:https://www.thatsamiata.com/wp-content/uploads/2023/07/concerto-pubblico-sagra.jpg
END:VEVENT
END:VCALENDAR