BEGIN:VCALENDAR
VERSION:2.0
PRODID:-//Thatsamiata - ECPv6.15.20//NONSGML v1.0//EN
CALSCALE:GREGORIAN
METHOD:PUBLISH
X-ORIGINAL-URL:https://www.thatsamiata.com
X-WR-CALDESC:Eventi per Thatsamiata
REFRESH-INTERVAL;VALUE=DURATION:PT1H
X-Robots-Tag:noindex
X-PUBLISHED-TTL:PT1H
BEGIN:VTIMEZONE
TZID:Europe/Rome
BEGIN:DAYLIGHT
TZOFFSETFROM:+0100
TZOFFSETTO:+0200
TZNAME:CEST
DTSTART:20180325T010000
END:DAYLIGHT
BEGIN:STANDARD
TZOFFSETFROM:+0200
TZOFFSETTO:+0100
TZNAME:CET
DTSTART:20181028T010000
END:STANDARD
BEGIN:DAYLIGHT
TZOFFSETFROM:+0100
TZOFFSETTO:+0200
TZNAME:CEST
DTSTART:20190331T010000
END:DAYLIGHT
BEGIN:STANDARD
TZOFFSETFROM:+0200
TZOFFSETTO:+0100
TZNAME:CET
DTSTART:20191027T010000
END:STANDARD
BEGIN:DAYLIGHT
TZOFFSETFROM:+0100
TZOFFSETTO:+0200
TZNAME:CEST
DTSTART:20200329T010000
END:DAYLIGHT
BEGIN:STANDARD
TZOFFSETFROM:+0200
TZOFFSETTO:+0100
TZNAME:CET
DTSTART:20201025T010000
END:STANDARD
BEGIN:DAYLIGHT
TZOFFSETFROM:+0100
TZOFFSETTO:+0200
TZNAME:CEST
DTSTART:20210328T010000
END:DAYLIGHT
BEGIN:STANDARD
TZOFFSETFROM:+0200
TZOFFSETTO:+0100
TZNAME:CET
DTSTART:20211031T010000
END:STANDARD
BEGIN:DAYLIGHT
TZOFFSETFROM:+0100
TZOFFSETTO:+0200
TZNAME:CEST
DTSTART:20220327T010000
END:DAYLIGHT
BEGIN:STANDARD
TZOFFSETFROM:+0200
TZOFFSETTO:+0100
TZNAME:CET
DTSTART:20221030T010000
END:STANDARD
BEGIN:DAYLIGHT
TZOFFSETFROM:+0100
TZOFFSETTO:+0200
TZNAME:CEST
DTSTART:20230326T010000
END:DAYLIGHT
BEGIN:STANDARD
TZOFFSETFROM:+0200
TZOFFSETTO:+0100
TZNAME:CET
DTSTART:20231029T010000
END:STANDARD
END:VTIMEZONE
BEGIN:VEVENT
DTSTART;TZID=Europe/Rome:20220626T160000
DTEND;TZID=Europe/Rome:20220626T230000
DTSTAMP:20260421T125246
CREATED:20220623T141313Z
LAST-MODIFIED:20231020T074944Z
UID:10000355-1656259200-1656284400@www.thatsamiata.com
SUMMARY:Festa Patronale a Stribugliano 2022
DESCRIPTION:Domenica 26 giugno a Stribugliano viene festeggiata la Festa Patronale in onore a San Giovanni Battista.\nIl primo appuntamento è alle 16.30\, con la processione offerta dei bambini e infiorata lungo le vie del paese. Nel pomeriggio ospiti saranno i musicisti della Street Band di Arcidosso e infine alle 21 è in programma una cena a menu fisso presso il piazzale polivalente “L’ortone” con musica da sala\, con il trio “Gli Amici del Ballo”.  \nDurante l’evento di quest’anno sarà inaugurata la pensilina in Piazza con Mappa di Comunità e statue antiche restaurate nella Chiesa.
URL:https://www.thatsamiata.com/event/festa-patronale-a-stribugliano/
LOCATION:Stribugliano\, loc. Stribugliano\, Arcidosso\, Grosseto\, 58031\, Italia
CATEGORIES:Eventi,Festività,Musica
ATTACH;FMTTYPE=image/jpeg:https://www.thatsamiata.com/wp-content/uploads/2023/07/stribugliano.jpg
END:VEVENT
BEGIN:VEVENT
DTSTART;VALUE=DATE:20190802
DTEND;VALUE=DATE:20190805
DTSTAMP:20260421T125246
CREATED:20180702T105648Z
LAST-MODIFIED:20231011T085702Z
UID:10000017-1564704000-1564963199@www.thatsamiata.com
SUMMARY:Sagra della Ricotta 2019
DESCRIPTION:Dal 2 al 4agosto\, a Stribugliano\, piccolo paesino del comune di Arcidosso si svolgerà un’altra edizione della Sagra della Ricotta. Sarà possibile degustare piatti tipici a base dello speciale prodotto
URL:https://www.thatsamiata.com/event/sagra-della-ricotta/
LOCATION:Stribugliano\, loc. Stribugliano\, Arcidosso\, Grosseto\, 58031\, Italia
CATEGORIES:Enogastronomia,Eventi
ATTACH;FMTTYPE=image/jpeg:https://www.thatsamiata.com/wp-content/uploads/2023/07/stribugliano.jpg
ORGANIZER;CN="Associazione La Faggia":MAILTO:lafaggiastribugliano@gmail.com
END:VEVENT
END:VCALENDAR