BEGIN:VCALENDAR
VERSION:2.0
PRODID:-//Thatsamiata - ECPv6.15.20//NONSGML v1.0//EN
CALSCALE:GREGORIAN
METHOD:PUBLISH
X-ORIGINAL-URL:https://www.thatsamiata.com
X-WR-CALDESC:Eventi per Thatsamiata
REFRESH-INTERVAL;VALUE=DURATION:PT1H
X-Robots-Tag:noindex
X-PUBLISHED-TTL:PT1H
BEGIN:VTIMEZONE
TZID:Europe/Rome
BEGIN:DAYLIGHT
TZOFFSETFROM:+0100
TZOFFSETTO:+0200
TZNAME:CEST
DTSTART:20180325T010000
END:DAYLIGHT
BEGIN:STANDARD
TZOFFSETFROM:+0200
TZOFFSETTO:+0100
TZNAME:CET
DTSTART:20181028T010000
END:STANDARD
BEGIN:DAYLIGHT
TZOFFSETFROM:+0100
TZOFFSETTO:+0200
TZNAME:CEST
DTSTART:20190331T010000
END:DAYLIGHT
BEGIN:STANDARD
TZOFFSETFROM:+0200
TZOFFSETTO:+0100
TZNAME:CET
DTSTART:20191027T010000
END:STANDARD
BEGIN:DAYLIGHT
TZOFFSETFROM:+0100
TZOFFSETTO:+0200
TZNAME:CEST
DTSTART:20200329T010000
END:DAYLIGHT
BEGIN:STANDARD
TZOFFSETFROM:+0200
TZOFFSETTO:+0100
TZNAME:CET
DTSTART:20201025T010000
END:STANDARD
END:VTIMEZONE
BEGIN:VEVENT
DTSTART;VALUE=DATE:20190427
DTEND;VALUE=DATE:20190429
DTSTAMP:20260421T124033
CREATED:20190125T135516Z
LAST-MODIFIED:20231018T140354Z
UID:10000208-1556323200-1556495999@www.thatsamiata.com
SUMMARY:Olearie 2019
DESCRIPTION:L’evento Olearie è l’evoluzione della tradizionale “Festa dell’Olio” che si svolge a Seggiano da decenni. Nel corso del tempo si è evoluto passando da tipica festa paesana con i connotati caratteristici della sagra all’ultima edizione dove si è voluto trasformarlo in momento di formazione e valorizzazione delle eccellenze enogastronomiche territoriali. Per fare ciò è stato modificato anche l’impianto generale dell’evento distribuendone led iniziative su tutto l’intero territorio comunale. \nPossibilità di conoscere gli oli delle aziende a marchio DOP\, convegni\, degustazioni e cene di gala. Appuntamento fisso dedicato alla monocultivar Olivastra Seggianese e ai pregiati oli che ne derivano. L’evento è organizzato dal Consorzio Olio Seggiano DOP in collaborazione con vari soggetti (enti e/o associazioni) del territorio e ogni anno le location e gli appuntamenti in programma variano. Rimane intatta la mission che è quella di far conoscere e promuovere la speciale cultivar di questa incantevole montagna. \nEcco il programma della nuova edizione
URL:https://www.thatsamiata.com/event/olearie/
LOCATION:Seggiano\, Seggiano\, Grosseto\, 58038\, Italia
CATEGORIES:Enogastronomia,Eventi
ATTACH;FMTTYPE=image/jpeg:https://www.thatsamiata.com/wp-content/uploads/2023/07/cena-olearie.jpg
ORGANIZER;CN="Consorzio Tutela dell'Olio Seggiano DOP":MAILTO:segrateria@consorzioolioseggiano.it
END:VEVENT
END:VCALENDAR